BEGIN:VCALENDAR
VERSION:2.0
PRODID:-//SportPlan//Event Calendar//EN
CALSCALE:GREGORIAN
BEGIN:VEVENT
UID:35cb8745-5b90-4d52-88e6-3057eeaaa077@sportplan.local
DTSTAMP:20260420T221903Z
DTSTART;VALUE=DATE:20260704
DTEND;VALUE=DATE:20260706
SUMMARY:Southern Sydney Track Ultra
DESCRIPTION:
LOCATION:Leumeah
URL:https://sportplan.vercel.app/de/events/southern-sydney-track-ultra-leumeah-2026-07-04
END:VEVENT
END:VCALENDAR
