BEGIN:VCALENDAR
VERSION:2.0
PRODID:-//SportPlan//Event Calendar//EN
CALSCALE:GREGORIAN
BEGIN:VEVENT
UID:9a304677-a5f0-47fe-bc4f-ed1b37d87f99@sportplan.local
DTSTAMP:20260420T191500Z
DTSTART;VALUE=DATE:20261213
DTEND;VALUE=DATE:20261214
SUMMARY:SKF Goa River Marathon
DESCRIPTION:Official domain redirecting to SKF Goa River Marathon site.
LOCATION:Goa\, India
URL:https://sportplan.vercel.app/de/events/skf-goa-river-marathon-2026-12-13
END:VEVENT
END:VCALENDAR
