BEGIN:VCALENDAR
VERSION:2.0
PRODID:-//SportPlan//Event Calendar//EN
CALSCALE:GREGORIAN
BEGIN:VEVENT
UID:c4b7b776-d81e-4d75-b86a-d4c83960769d@sportplan.local
DTSTAMP:20260420T204330Z
DTSTART;VALUE=DATE:20260823
DTEND;VALUE=DATE:20260824
SUMMARY:Silkeborg Triathlon Danmarks Smukkeste Triathlon 2026
DESCRIPTION:Silkeborg Triathlon Danmarks Smukkeste Triathlon 2026 is an official amateur triathlon in Silkeborg\, Denmark on 23 August 2026. Triatlon Danmark lists the 40th edition with open age-group participation in DM Classic AG\, DM Aquabike AG Kort\, and the middle-distance race\, alongside elite standard-distance racing.
LOCATION:Almindsø\, Silkeborg
URL:https://sportplan.vercel.app/de/events/silkeborg-triathlon-danmarks-smukkeste-triathlon-2026-2026-08-23
END:VEVENT
END:VCALENDAR
