BEGIN:VCALENDAR
VERSION:2.0
PRODID:-//SportPlan//Event Calendar//EN
CALSCALE:GREGORIAN
BEGIN:VEVENT
UID:7898b7bb-2012-4385-95d7-9033dfd2a7f0@sportplan.local
DTSTAMP:20260420T174133Z
DTSTART;VALUE=DATE:20260425
DTEND;VALUE=DATE:20260426
SUMMARY:Siguldas baseina akvatlons\, LČ\, LK posms
DESCRIPTION:Pieteikties: https://www.sportlat.lv/sacensibas/1892/siguldas-baseina-akvatlons-2026-lc-lk/registracija\nNolikums: https://www.sportlat.lv/sacensibas/1892/siguldas-baseina-akvatlons-2026-lc-lk/nolikums
LOCATION:Sigulda\, Latvia
URL:https://sportplan.vercel.app/de/events/siguldas-baseina-akvatlons-lc-lk-posms-2026-04-25
END:VEVENT
END:VCALENDAR
