BEGIN:VCALENDAR
VERSION:2.0
PRODID:-//SportPlan//Event Calendar//EN
CALSCALE:GREGORIAN
BEGIN:VEVENT
UID:8496cc5d-842f-4e8f-9c33-a6eebe8f1d56@sportplan.local
DTSTAMP:20260420T234635Z
DTSTART;VALUE=DATE:20260620
DTEND;VALUE=DATE:20260621
SUMMARY:Sen Nocy Letniej — Sen Nocy Letniej - Zapisy Parami
DESCRIPTION:
LOCATION:Bydgoszcz
URL:https://sportplan.vercel.app/de/events/sen-nocy-letniej-sen-nocy-letniej-zapisy-parami-bydgoszcz-2026-06-20
END:VEVENT
END:VCALENDAR
