BEGIN:VCALENDAR
VERSION:2.0
PRODID:-//SportPlan//Event Calendar//EN
CALSCALE:GREGORIAN
BEGIN:VEVENT
UID:2cf95622-a5c7-4ac6-b4ed-862704783ebc@sportplan.local
DTSTAMP:20260420T203741Z
DTSTART;VALUE=DATE:20260517
DTEND;VALUE=DATE:20260518
SUMMARY:Semi-Marathon D'andenne
DESCRIPTION:Semi-Marathon D'andenne aura lieu le 17 mai 2026 à Andenne\, dans un cadre parfait pour profiter de l'événement et de l'ambiance de course. Le tracé et l'atmosphère en font un rendez-vous séduisant pour les coureurs en quête d'un nouveau défi.
LOCATION:Andenne
URL:https://sportplan.vercel.app/de/events/semi-marathon-d-andenne-andenne-2026-05-17
END:VEVENT
END:VCALENDAR
