BEGIN:VCALENDAR
VERSION:2.0
PRODID:-//SportPlan//Event Calendar//EN
CALSCALE:GREGORIAN
BEGIN:VEVENT
UID:b5bd9de7-bf25-4b8b-815a-f2098d173fbe@sportplan.local
DTSTAMP:20260420T221402Z
DTSTART;VALUE=DATE:20260816
DTEND;VALUE=DATE:20260817
SUMMARY:Scottish Half Marathon
DESCRIPTION:discovered via World's Marathons sitemap and validated on direct event page\; Tier 2 underrepresented-country rotation (UK/IE)
LOCATION:Musselburgh / Edinburgh\, United Kingdom
URL:https://sportplan.vercel.app/de/events/scottish-half-marathon-2026-08-16
END:VEVENT
END:VCALENDAR
