BEGIN:VCALENDAR
VERSION:2.0
PRODID:-//SportPlan//Event Calendar//EN
CALSCALE:GREGORIAN
BEGIN:VEVENT
UID:9f986718-fa43-4c40-a67c-049a756a5ece@sportplan.local
DTSTAMP:20260420T191747Z
DTSTART;VALUE=DATE:20260503
DTEND;VALUE=DATE:20260504
SUMMARY:Schneider Electric Maasmarathon
DESCRIPTION:
LOCATION:Visé
URL:https://sportplan.vercel.app/de/events/schneider-electric-maasmarathon-vise-2026-05-03
END:VEVENT
END:VCALENDAR
