BEGIN:VCALENDAR
VERSION:2.0
PRODID:-//SportPlan//Event Calendar//EN
CALSCALE:GREGORIAN
BEGIN:VEVENT
UID:f58b3289-4b53-4af7-8102-23f6786cfd23@sportplan.local
DTSTAMP:20260420T234434Z
DTSTART;VALUE=DATE:20260530
DTEND;VALUE=DATE:20260531
SUMMARY:Schleck Gran Fondo 2026
DESCRIPTION:Schleck Gran Fondo 2026 is a mass-participation Luxembourg road-cycling weekend from Mondorf-les-Bains\, with a 164 km granfondo featuring about 2\,200 m of climbing and a shorter 82 km mediofondo on the same roads.
LOCATION:Mondorf-les-Bains
URL:https://sportplan.vercel.app/de/events/schleck-gran-fondo-2026-2026-05-30
END:VEVENT
END:VCALENDAR
