BEGIN:VCALENDAR
VERSION:2.0
PRODID:-//SportPlan//Event Calendar//EN
CALSCALE:GREGORIAN
BEGIN:VEVENT
UID:91d2ca35-26c8-483c-8a4e-daedb4584ee6@sportplan.local
DTSTAMP:20260420T221755Z
DTSTART;VALUE=DATE:20260201
DTEND;VALUE=DATE:20260202
SUMMARY:Sapporo International Ski Marathon 10K 2026
DESCRIPTION:The Sapporo International Ski Marathon is a public cross-country ski event in Sapporo. The official event information page lists the 46th edition on 1 February 2026 at Shirahatayama Open Stadium and specifies an open 10 km race for amateur participants aged 16 and over.
LOCATION:Shirahatayama Open Stadium\, Sapporo\, Hokkaido\, Japan
URL:https://sportplan.vercel.app/de/events/sapporo-international-ski-marathon-10k-2026-sapporo-2026-02-01
END:VEVENT
END:VCALENDAR
