BEGIN:VCALENDAR
VERSION:2.0
PRODID:-//SportPlan//Event Calendar//EN
CALSCALE:GREGORIAN
BEGIN:VEVENT
UID:483f23bc-d3f1-46af-8121-21e9a45610d4@sportplan.local
DTSTAMP:20260420T204814Z
DTSTART;VALUE=DATE:20261117
DTEND;VALUE=DATE:20261118
SUMMARY:Sant Carles Trail 7K
DESCRIPTION:Sant Carles Trail 7K se celebrará el 17 noviembre 2026 en Santa Eulalia del Río\, Eivissa i Formentera\, Baleares\, ofreciendo una cita ideal para quienes quieren vivir el ambiente del evento desde cerca. Con una distancia aproximada de 7 km\, es una opción atractiva tanto para participantes habituales como para quienes quieren sumar un nuevo reto en el calendario.
LOCATION:Santa Eulalia del Río\, Eivissa i Formentera\, Baleares
URL:https://sportplan.vercel.app/de/events/sant-carles-trail-7k-santa-eulalia-del-rio-2026-11-17-7k
END:VEVENT
END:VCALENDAR
