BEGIN:VCALENDAR
VERSION:2.0
PRODID:-//SportPlan//Event Calendar//EN
CALSCALE:GREGORIAN
BEGIN:VEVENT
UID:ed4aa433-201d-419f-9568-de4707cbc49e@sportplan.local
DTSTAMP:20260420T192022Z
DTSTART;VALUE=DATE:20260524
DTEND;VALUE=DATE:20260525
SUMMARY:Sanlam Cape Town Marathon 2026 — News
DESCRIPTION:discovered via direct fetch\; news section with 2026 edition announcements\; includes Kipchoge announcement and prize purse increase news\; stable official source URL
LOCATION:Cape Town\, South Africa
URL:https://sportplan.vercel.app/de/events/sanlam-cape-town-marathon-2026-news-2026-05-24
END:VEVENT
END:VCALENDAR
