BEGIN:VCALENDAR
VERSION:2.0
PRODID:-//SportPlan//Event Calendar//EN
CALSCALE:GREGORIAN
BEGIN:VEVENT
UID:f9af7101-4c37-48b4-834a-e561433869be@sportplan.local
DTSTAMP:20260420T204650Z
DTSTART;VALUE=DATE:20260524
DTEND;VALUE=DATE:20260525
SUMMARY:Sanlam Cape Town Marathon 2026 — Elite Athletes
DESCRIPTION:discovered via navigation\; Eliud Kipchoge headline\; strongest and fastest field ever assembled for an African marathon per press release\; stable sub-page URL
LOCATION:Cape Town\, South Africa
URL:https://sportplan.vercel.app/de/events/sanlam-cape-town-marathon-2026-elite-athletes-2026-05-24
END:VEVENT
END:VCALENDAR
