BEGIN:VCALENDAR
VERSION:2.0
PRODID:-//SportPlan//Event Calendar//EN
CALSCALE:GREGORIAN
BEGIN:VEVENT
UID:2bcc312c-5373-4e4d-825b-aa728a3db348@sportplan.local
DTSTAMP:20260420T204603Z
DTSTART;VALUE=DATE:20261018
DTEND;VALUE=DATE:20261019
SUMMARY:Sanlam Cape Town Marathon 2026
DESCRIPTION:
LOCATION:Cape Town\, Western Cape
URL:https://sportplan.vercel.app/de/events/sanlam-cape-town-marathon-2026-cape-town-2026-10-18
END:VEVENT
END:VCALENDAR
