BEGIN:VCALENDAR
VERSION:2.0
PRODID:-//SportPlan//Event Calendar//EN
CALSCALE:GREGORIAN
BEGIN:VEVENT
UID:0bc28b46-d214-45b4-ae9b-60cecfa2e4cd@sportplan.local
DTSTAMP:20260420T191759Z
DTSTART;VALUE=DATE:20261231
DTEND;VALUE=DATE:20270101
SUMMARY:San Silvestre de Córdoba
DESCRIPTION:San Silvestre de Córdoba se celebrará el 31 de diciembre de 2026 en Córdoba Centro Histórico. Es una buena cita para quienes quieren vivir el ambiente del evento en directo y planificar la jornada con antelación. La sede prevista está a unos 10 km\, así que conviene revisar accesos\, horarios y servicios antes de salir.
LOCATION:Córdoba Centro Histórico
URL:https://sportplan.vercel.app/de/events/san-silvestre-de-c-rdoba-c-rdoba-2026-12-31
END:VEVENT
END:VCALENDAR
