BEGIN:VCALENDAR
VERSION:2.0
PRODID:-//SportPlan//Event Calendar//EN
CALSCALE:GREGORIAN
BEGIN:VEVENT
UID:76da0172-d51d-44ba-8b1c-4caf2d1ef732@sportplan.local
DTSTAMP:20260420T204404Z
DTSTART;VALUE=DATE:20260718
DTEND;VALUE=DATE:20260719
SUMMARY:Salzkammergut Trophy 2026
DESCRIPTION:Official mountain bike marathon in Bad Goisern\, Austria. The 2026 Salzkammergut Trophy offers open amateur participation across multiple MTB marathon routes\, from 22 km up to 209.4 km\, and is positioned by the organizer as Austria's largest MTB marathon.
LOCATION:Bad Goisern am Hallstättersee
URL:https://sportplan.vercel.app/de/events/salzkammergut-trophy-2026-2026-07-18
END:VEVENT
END:VCALENDAR
