BEGIN:VCALENDAR
VERSION:2.0
PRODID:-//SportPlan//Event Calendar//EN
CALSCALE:GREGORIAN
BEGIN:VEVENT
UID:f05f84e4-ff62-4da8-b22b-610052bd1f12@sportplan.local
DTSTAMP:20260420T204754Z
DTSTART;VALUE=DATE:20260517
DTEND;VALUE=DATE:20260518
SUMMARY:Salzburg Marathon 2026
DESCRIPTION:Salzburg Marathon 2026 findet am 17. Mai 2026 in Salzburg\, Salzburg statt und verspricht einen starken Lauftag in besonderer Umgebung. Mit einer Distanz von 42\,2 km bietet das Rennen eine gelungene Mischung aus Herausforderung\, Tempo und Eventatmosphäre.
LOCATION:Salzburg\, Salzburg
URL:https://sportplan.vercel.app/de/events/salzburg-marathon-2026-salzburg-2026-05-17
END:VEVENT
END:VCALENDAR
