BEGIN:VCALENDAR
VERSION:2.0
PRODID:-//SportPlan//Event Calendar//EN
CALSCALE:GREGORIAN
BEGIN:VEVENT
UID:5104e895-0a74-4d3c-8c19-aa4076469e55@sportplan.local
DTSTAMP:20260421T005513Z
DTSTART;VALUE=DATE:20260626
DTEND;VALUE=DATE:20260629
SUMMARY:SAIL Challenge Québec 2026
DESCRIPTION:SAIL Challenge Québec 2026 is an amateur-participation triathlon weekend in Québec City from 26 to 28 June 2026. The official organizer site presents sprint\, Olympic\, middle-distance\, and long-distance race formats\, with swimming in Bassin Louise\, a bike course along the St. Lawrence River\, and a run route through Old Québec\, the Rivière Saint-Charles area\, and the Port de Québec Marina. Official pricing and registration pages confirm open public registration across multiple participation levels rather than a pro-only format.
LOCATION:Québec City
URL:https://sportplan.vercel.app/de/events/sail-challenge-quebec-2026-06-28
END:VEVENT
END:VCALENDAR
