BEGIN:VCALENDAR
VERSION:2.0
PRODID:-//SportPlan//Event Calendar//EN
CALSCALE:GREGORIAN
BEGIN:VEVENT
UID:6c845347-0728-41b7-906c-897826b192ba@sportplan.local
DTSTAMP:20260420T225817Z
DTSTART;VALUE=DATE:20260821
DTEND;VALUE=DATE:20260822
SUMMARY:Runfire Salt Lake Ultra Trail
DESCRIPTION:World's Marathons event page\; salt-lake ultra/trail festival with 10K to 100-mile categories.
LOCATION:Eskil\, Aksaray\, Turkey
URL:https://sportplan.vercel.app/de/events/runfire-salt-lake-ultra-trail-2026-08-21
END:VEVENT
END:VCALENDAR
