BEGIN:VCALENDAR
VERSION:2.0
PRODID:-//SportPlan//Event Calendar//EN
CALSCALE:GREGORIAN
BEGIN:VEVENT
UID:e82c0f36-4fdd-4be4-88f8-c07cff2d2a93@sportplan.local
DTSTAMP:20260420T191603Z
DTSTART;VALUE=DATE:20260523
DTEND;VALUE=DATE:20260524
SUMMARY:Runaway Noosa Marathon
DESCRIPTION:Discovered via RunCalendar Australia marathons listing.
LOCATION:Noosa\, QLD\, Australia
URL:https://sportplan.vercel.app/de/events/runaway-noosa-marathon-2026-05-23
END:VEVENT
END:VCALENDAR
