BEGIN:VCALENDAR
VERSION:2.0
PRODID:-//SportPlan//Event Calendar//EN
CALSCALE:GREGORIAN
BEGIN:VEVENT
UID:914fa7af-a508-4652-939d-fa36d72b2d86@sportplan.local
DTSTAMP:20260420T204610Z
DTSTART;VALUE=DATE:20260823
DTEND;VALUE=DATE:20260824
SUMMARY:RUHM-Rosengarten ULTRA Heide Marathon\, Hamburg
DESCRIPTION:RUHM-Rosengarten ULTRA Heide Marathon\, Hamburg findet am 23. August 2026 in Rosengarten statt. Die Veranstaltung ist eine starke Wahl für alle\, die in DE eine gut organisierte Herausforderung mit motivierender Atmosphäre suchen. Die Veranstaltung verbindet Strecke\, lokales Ambiente und eine gute Gelegenheit\, das Reiseziel aktiv zu erleben.
LOCATION:Rosengarten
URL:https://sportplan.vercel.app/de/events/ruhm-rosengarten-ultra-heide-marathon-hamburg-rosengarten-2026-08-23
END:VEVENT
END:VCALENDAR
