BEGIN:VCALENDAR
VERSION:2.0
PRODID:-//SportPlan//Event Calendar//EN
CALSCALE:GREGORIAN
BEGIN:VEVENT
UID:d78eb55f-2363-4b46-865e-70d1f8e3f5fc@sportplan.local
DTSTAMP:20260420T220916Z
DTSTART;VALUE=DATE:20261011
DTEND;VALUE=DATE:20261012
SUMMARY:Royal Victoria Marathon
DESCRIPTION:discovered via Brave web_search on direct World's Marathons Canada running event pages\; Canada was the lowest-count country in the current priority list.
LOCATION:Victoria\, Canada
URL:https://sportplan.vercel.app/de/events/royal-victoria-marathon-2026-10-11
END:VEVENT
END:VCALENDAR
