BEGIN:VCALENDAR
VERSION:2.0
PRODID:-//SportPlan//Event Calendar//EN
CALSCALE:GREGORIAN
BEGIN:VEVENT
UID:806c0e95-2e4b-4452-adc1-c7ac810b74bd@sportplan.local
DTSTAMP:20260420T204556Z
DTSTART;VALUE=DATE:20261011
DTEND;VALUE=DATE:20261012
SUMMARY:Royal Parks Half Marathon 2026
DESCRIPTION:Royal Parks Half Marathon 2026 takes place in London\, England on October 11\, 2026. It is a strong option for participants looking for a well-organized sporting event with a 21.1 km course. Ideal for chasing a personal best\, taking on a new challenge\, or simply enjoying the event-day energy.
LOCATION:London\, England
URL:https://sportplan.vercel.app/de/events/royal-parks-half-marathon-2026-london-2026-10-11
END:VEVENT
END:VCALENDAR
