BEGIN:VCALENDAR
VERSION:2.0
PRODID:-//SportPlan//Event Calendar//EN
CALSCALE:GREGORIAN
BEGIN:VEVENT
UID:49e53ff2-78a0-461e-8a2e-fe2dfbad23bb@sportplan.local
DTSTAMP:20260420T221541Z
DTSTART;VALUE=DATE:20260913
DTEND;VALUE=DATE:20260914
SUMMARY:Rotary Run for Life - Canada
DESCRIPTION:
LOCATION:Stony Plain
URL:https://sportplan.vercel.app/de/events/rotary-run-for-life-canada-stony-plain-2026-09-13
END:VEVENT
END:VCALENDAR
