BEGIN:VCALENDAR
VERSION:2.0
PRODID:-//SportPlan//Event Calendar//EN
CALSCALE:GREGORIAN
BEGIN:VEVENT
UID:a7d6e947-81cb-480c-a621-bc6ad35791e0@sportplan.local
DTSTAMP:20260420T204218Z
DTSTART;VALUE=DATE:20261009
DTEND;VALUE=DATE:20261010
SUMMARY:Road race - Savion
DESCRIPTION:discovered via official World Athletics calendar\; Israel selected after queue count review as a low-coverage country. URL is an event-specific official calendar filter because direct standalone event slugs are not exposed in the page data.
LOCATION:Savion
URL:https://sportplan.vercel.app/de/events/road-race-savion-2026-10-09
END:VEVENT
END:VCALENDAR
