BEGIN:VCALENDAR
VERSION:2.0
PRODID:-//SportPlan//Event Calendar//EN
CALSCALE:GREGORIAN
BEGIN:VEVENT
UID:cb58da5b-ca66-4781-9964-38e676cf4c04@sportplan.local
DTSTAMP:20260420T203640Z
DTSTART;VALUE=DATE:20260517
DTEND;VALUE=DATE:20260518
SUMMARY:Ringe TRI Stævne 2026
DESCRIPTION:Ringe TRI Stævne 2026 is an official amateur triathlon event in Ringe\, Denmark on 17 May 2026. Triatlon Danmark and Ringe Svømme-Klub present a broad-participation race day with quarter-distance triathlon\, 4-18-4 and 2-9-2 formats\, duathlon\, children's racing\, and relay participation for teams.
LOCATION:Idrætscenter Midtfyn\, Ringe
URL:https://sportplan.vercel.app/de/events/ringe-tri-staevne-2026-2026-05-17
END:VEVENT
END:VCALENDAR
