BEGIN:VCALENDAR
VERSION:2.0
PRODID:-//SportPlan//Event Calendar//EN
CALSCALE:GREGORIAN
BEGIN:VEVENT
UID:43a04f18-03e1-4831-b32c-ce71cc2477ee@sportplan.local
DTSTAMP:20260420T204226Z
DTSTART;VALUE=DATE:20260516
DTEND;VALUE=DATE:20260517
SUMMARY:Rimi Rīgas maratons
DESCRIPTION:discovered via Latvian Athletics Federation official calendar (athletics.lv)\; Latvia had 6 queue entries before this run and remained under the 10+ deprioritization threshold
LOCATION:Rīga
URL:https://sportplan.vercel.app/de/events/rimi-rigas-maratons-2026-05-16
END:VEVENT
END:VCALENDAR
