BEGIN:VCALENDAR
VERSION:2.0
PRODID:-//SportPlan//Event Calendar//EN
CALSCALE:GREGORIAN
BEGIN:VEVENT
UID:139aa963-dd73-479b-863f-187cc288c5b8@sportplan.local
DTSTAMP:20260420T204310Z
DTSTART;VALUE=DATE:20260517
DTEND;VALUE=DATE:20260518
SUMMARY:Rimi Riga 10 km 2026
DESCRIPTION:Rimi Riga 10 km is an amateur-open road race on the official Rimi Riga Marathon weekend. The organizer registration page confirms the 10 km race on 17 May 2026 with a 12:30 start from 11 November Embankment in Riga and official online registration via the event portal.
LOCATION:11 November Embankment\, Riga\, Latvia
URL:https://sportplan.vercel.app/de/events/rimi-riga-10k-2026-riga-2026-05-17
END:VEVENT
END:VCALENDAR
