BEGIN:VCALENDAR
VERSION:2.0
PRODID:-//SportPlan//Event Calendar//EN
CALSCALE:GREGORIAN
BEGIN:VEVENT
UID:61a83135-c9f0-4af3-9b28-56ec56f529ee@sportplan.local
DTSTAMP:20260421T010011Z
DTSTART;VALUE=DATE:20260502
DTEND;VALUE=DATE:20260503
SUMMARY:Red Stag Rotorua Marathon 2026 – Registration
DESCRIPTION:Official Rotorua Marathon registration/entry page\; includes discount for Athletics NZ members (20% off)\; NZ first discovery run\; stable sub-page
LOCATION:Rotorua\, New Zealand
URL:https://sportplan.vercel.app/de/events/red-stag-rotorua-marathon-2026-registration-2026-05-02
END:VEVENT
END:VCALENDAR
