BEGIN:VCALENDAR
VERSION:2.0
PRODID:-//SportPlan//Event Calendar//EN
CALSCALE:GREGORIAN
BEGIN:VEVENT
UID:c5924025-e303-4451-9664-538041c76343@sportplan.local
DTSTAMP:20260420T203741Z
DTSTART;VALUE=DATE:20260613
DTEND;VALUE=DATE:20260614
SUMMARY:Rebildløbet Half-marathon
DESCRIPTION:Rebildløbet Half-marathon afholdes i Rebild\, Denmark den 13 juni 2026. Dette løb giver deltagerne en velorganiseret oplevelse\, velegnet til løbere\, der søger en tydelig udfordring. Forvent en god stemning\, en motiverende rute og en stærk løbsdag i Rebild\, Denmark.
LOCATION:Rebild\, Denmark
URL:https://sportplan.vercel.app/de/events/rebildl-bet-half-marathon-2026-06-13
END:VEVENT
END:VCALENDAR
