BEGIN:VCALENDAR
VERSION:2.0
PRODID:-//SportPlan//Event Calendar//EN
CALSCALE:GREGORIAN
BEGIN:VEVENT
UID:b8792d4b-65ce-446f-a396-e0d599b68ab9@sportplan.local
DTSTAMP:20260421T010538Z
DTSTART;VALUE=DATE:20260912
DTEND;VALUE=DATE:20260913
SUMMARY:RBC GranFondo Whistler
DESCRIPTION:NOTE: this is a Canada event listed under GB in earlier queue entries\; intentionally re-listed here as it surfaced in NO cycling search results via worldsmarathons\; the actual Norwegian cycling events are primarily captured via direct sources above
LOCATION:Whistler\, BC\, Canada
URL:https://sportplan.vercel.app/de/events/rbc-granfondo-whistler-2026-09-12
END:VEVENT
END:VCALENDAR
