BEGIN:VCALENDAR
VERSION:2.0
PRODID:-//SportPlan//Event Calendar//EN
CALSCALE:GREGORIAN
BEGIN:VEVENT
UID:aacbae19-7935-4ca4-ade5-c0a643b2f415@sportplan.local
DTSTAMP:20260420T204327Z
DTSTART;VALUE=DATE:20260711
DTEND;VALUE=DATE:20260712
SUMMARY:Race to the Stones
DESCRIPTION:discovered via web_fetch on official event site for UK/IE priority coverage
LOCATION:The Ridgeway\, United Kingdom
URL:https://sportplan.vercel.app/de/events/race-to-the-stones-2026-07-11
END:VEVENT
END:VCALENDAR
