BEGIN:VCALENDAR
VERSION:2.0
PRODID:-//SportPlan//Event Calendar//EN
CALSCALE:GREGORIAN
BEGIN:VEVENT
UID:b5d8f1ed-a6a4-4838-87b5-27c52b07fbfc@sportplan.local
DTSTAMP:20260420T204710Z
DTSTART;VALUE=DATE:20261018
DTEND;VALUE=DATE:20261019
SUMMARY:Quijote Maratón Ciudad Real 2026
DESCRIPTION:Quijote Maratón Ciudad Real 2026 se celebra el 18 de octubre de 2026 en Ciudad Real\, Ciudad Real. Es una cita ideal para quienes buscan un recorrido bien señalizado y un gran ambiente de carrera\, con un recorrido de 42.2 km. Perfecta tanto para competir a buen ritmo como para disfrutar de la experiencia y del entorno del evento.
LOCATION:Ciudad Real\, Ciudad Real
URL:https://sportplan.vercel.app/de/events/quijote-marat-n-ciudad-real-2026-ciudad-real-2026-10-18
END:VEVENT
END:VCALENDAR
