BEGIN:VCALENDAR
VERSION:2.0
PRODID:-//SportPlan//Event Calendar//EN
CALSCALE:GREGORIAN
BEGIN:VEVENT
UID:1f76c67e-abe9-40c7-8b3d-7291d845595c@sportplan.local
DTSTAMP:20260420T234634Z
DTSTART;VALUE=DATE:20260501
DTEND;VALUE=DATE:20260504
SUMMARY:Puszcza Festiwal 2026 — Yolo Night – Bieg Na Dystansie – 10 km 10K
DESCRIPTION:
LOCATION:Niepołomice
URL:https://sportplan.vercel.app/de/events/puszcza-festiwal-2026-yolo-night-bieg-na-dystansie-10-km-10k-niepo-omice-2026-05-01
END:VEVENT
END:VCALENDAR
