BEGIN:VCALENDAR
VERSION:2.0
PRODID:-//SportPlan//Event Calendar//EN
CALSCALE:GREGORIAN
BEGIN:VEVENT
UID:3a100448-7dbd-407d-86ea-f10aaacd35ee@sportplan.local
DTSTAMP:20260420T234720Z
DTSTART;VALUE=DATE:20260501
DTEND;VALUE=DATE:20260504
SUMMARY:Puszcza Festiwal 2026 — Nocna Pomroka – Nocna Trasa Piesza Z Mapą – Ok. 25 km 25K
DESCRIPTION:
LOCATION:Niepołomice
URL:https://sportplan.vercel.app/de/events/puszcza-festiwal-2026-nocna-pomroka-nocna-trasa-piesza-z-mapa-ok-25-km-25k-niepo-omice-2026-05-01
END:VEVENT
END:VCALENDAR
