BEGIN:VCALENDAR
VERSION:2.0
PRODID:-//SportPlan//Event Calendar//EN
CALSCALE:GREGORIAN
BEGIN:VEVENT
UID:db8232f0-12b9-4d16-9256-304f4bd0d888@sportplan.local
DTSTAMP:20260420T191938Z
DTSTART;VALUE=DATE:20260418
DTEND;VALUE=DATE:20260419
SUMMARY:Promo Mini Kros Duatlon Slavonski Brod 2026
DESCRIPTION:Promo Mini Kros Duatlon Slavonski Brod 2026 is an official Croatian Triathlon Federation promo cross-duathlon race at Tvrđava Brod in Slavonski Brod\, Croatia on 18 April 2026. The federation race dashboard lists the event in the 2026 calendar\, and the federation announcement for the same championship weekend says the venue welcomes not only national-level competitors but also recreational athletes seeking an off-road multisport challenge.
LOCATION:Tvrđava Brod\, Slavonski Brod
URL:https://sportplan.vercel.app/de/events/promo-mini-kros-duatlon-slavonski-brod-2026-2026-04-18
END:VEVENT
END:VCALENDAR
