BEGIN:VCALENDAR
VERSION:2.0
PRODID:-//SportPlan//Event Calendar//EN
CALSCALE:GREGORIAN
BEGIN:VEVENT
UID:3900c082-6cea-4181-91ac-f73590be6308@sportplan.local
DTSTAMP:20260420T204424Z
DTSTART;VALUE=DATE:20260503
DTEND;VALUE=DATE:20260504
SUMMARY:Pro Health Care 10km
DESCRIPTION:Official race page
LOCATION:Adelaide\, Australia
URL:https://sportplan.vercel.app/de/events/pro-health-care-10km-2026-05-03
END:VEVENT
END:VCALENDAR
