BEGIN:VCALENDAR
VERSION:2.0
PRODID:-//SportPlan//Event Calendar//EN
CALSCALE:GREGORIAN
BEGIN:VEVENT
UID:7b70c6a7-2d54-4574-8569-b06d952cc373@sportplan.local
DTSTAMP:20260420T191615Z
DTSTART;VALUE=DATE:20260530
DTEND;VALUE=DATE:20260531
SUMMARY:Porto Alegre Marathon
DESCRIPTION:Porto Alegre Marathon é um evento programado para 2026-05-30 em Porto Alegre\, Brazil. É uma boa opção para quem procura um desafio esportivo bem organizado. A prova combina ambiente competitivo com uma experiência acessível para diferentes perfis de participantes.
LOCATION:Porto Alegre\, Brazil
URL:https://sportplan.vercel.app/de/events/porto-alegre-marathon-2026-05-30
END:VEVENT
END:VCALENDAR
