BEGIN:VCALENDAR
VERSION:2.0
PRODID:-//SportPlan//Event Calendar//EN
CALSCALE:GREGORIAN
BEGIN:VEVENT
UID:345c0bd7-0722-452d-932f-12e9486743f2@sportplan.local
DTSTAMP:20260420T203823Z
DTSTART;VALUE=DATE:20260602
DTEND;VALUE=DATE:20260603
SUMMARY:Põlva 9. teisipäevak
DESCRIPTION:Põlva 9. teisipäevak is an official amateur orienteering event in Koigera-Mesipuu\, Põlva County\, Estonia on 2 June 2026. The official Estonian Orienteering Federation event detail page confirms the date\, organizer Kobras\, and Koigera-Mesipuu venue\, while the official OK Põlva Kobras Tuesday-series schedule adds Mesipuu talu and Kanepi-Antsla tee 7. km location context for this public weekday participation event.
LOCATION:Koigera-Mesipuu\, Mesipuu talu
URL:https://sportplan.vercel.app/de/events/polva-9-teisipaevak-koigera-mesipuu-2026-06-02
END:VEVENT
END:VCALENDAR
