BEGIN:VCALENDAR
VERSION:2.0
PRODID:-//SportPlan//Event Calendar//EN
CALSCALE:GREGORIAN
BEGIN:VEVENT
UID:23e9c0b8-40b7-4dd7-8673-625582f44918@sportplan.local
DTSTAMP:20260420T191302Z
DTSTART;VALUE=DATE:20260428
DTEND;VALUE=DATE:20260429
SUMMARY:Põlva 4. teisipäevak
DESCRIPTION:Põlva 4. teisipäevak is an official amateur orienteering event in Sulbi\, Estonia on 28 April 2026. The official Estonian Orienteering Federation event page confirms the date\, Sulbi veski venue area\, and Kobras as organizer\, while the official OK Põlva Kobras Tuesday-series page provides the local event schedule and map-linked venue details for this recurring public series.
LOCATION:Sulbi veski\, Sulbi
URL:https://sportplan.vercel.app/de/events/polva-4-teisipaevak-sulbi-2026-04-28
END:VEVENT
END:VCALENDAR
