BEGIN:VCALENDAR
VERSION:2.0
PRODID:-//SportPlan//Event Calendar//EN
CALSCALE:GREGORIAN
BEGIN:VEVENT
UID:8cab7d5f-979d-4157-80d6-91e993bd9fa6@sportplan.local
DTSTAMP:20260420T204220Z
DTSTART;VALUE=DATE:20260607
DTEND;VALUE=DATE:20260608
SUMMARY:Plitvice Half Marathon 2026
DESCRIPTION:Plitvice Half Marathon 2026 is part of the 41th Plitvice Marathon weekend in Croatia's Plitvice Lakes National Park\, where runners race above the Great Waterfall and alongside the park's lakes as part of the first weekend of June event program.
LOCATION:Plitvice Lakes\, Lika-Senj
URL:https://sportplan.vercel.app/de/events/plitvice-half-marathon-2026-plitvice-lakes-2026-06-07
END:VEVENT
END:VCALENDAR
