BEGIN:VCALENDAR
VERSION:2.0
PRODID:-//SportPlan//Event Calendar//EN
CALSCALE:GREGORIAN
BEGIN:VEVENT
UID:d49e54b6-fef5-4a02-b1dc-981ebe510bf1@sportplan.local
DTSTAMP:20260420T204756Z
DTSTART;VALUE=DATE:20260516
DTEND;VALUE=DATE:20260517
SUMMARY:Plavnica Olympic Triathlon 2026
DESCRIPTION:Plavnica Olympic Triathlon 2026 is an official amateur triathlon in Plavnica\, Zeta\, Montenegro on 16 May 2026. The Montenegro Triathlon Federation's 2026 championship calendar names Plavnica as the national championship venue for olympic triathlon\, organized by TK Podgorica\, making it a strong official-source participation event in a thin-coverage market.
LOCATION:Plavnica\, Zeta
URL:https://sportplan.vercel.app/de/events/plavnica-olympic-triathlon-2026-plavnica-zeta-2026-05-16
END:VEVENT
END:VCALENDAR
