BEGIN:VCALENDAR
VERSION:2.0
PRODID:-//SportPlan//Event Calendar//EN
CALSCALE:GREGORIAN
BEGIN:VEVENT
UID:7d137c67-5286-450c-a920-b2a9f962d7b1@sportplan.local
DTSTAMP:20260420T204325Z
DTSTART;VALUE=DATE:20260731
DTEND;VALUE=DATE:20260802
SUMMARY:Pitz Alpine Glacier Trail
DESCRIPTION:Pitz Alpine Glacier Trail findet am 31. Juli 2026 in St. Leonhard im Pitztal statt. Die Veranstaltung ist eine starke Wahl für Teilnehmende\, die ein gut organisiertes sportliches Erlebnis suchen. Prüfen Sie die Strecken- und Organisationsdetails rechtzeitig\, um optimal vorbereitet an den Start zu gehen.
LOCATION:St. Leonhard im Pitztal
URL:https://sportplan.vercel.app/de/events/pitz-alpine-glacier-trail-st-leonhard-im-pitztal-2026-07-31
END:VEVENT
END:VCALENDAR
