BEGIN:VCALENDAR
VERSION:2.0
PRODID:-//SportPlan//Event Calendar//EN
CALSCALE:GREGORIAN
BEGIN:VEVENT
UID:dee71498-dcd9-4437-8a20-66d5a29694c7@sportplan.local
DTSTAMP:20260420T204326Z
DTSTART;VALUE=DATE:20260801
DTEND;VALUE=DATE:20260802
SUMMARY:Pitz Alpine Glacier Trail P30
DESCRIPTION:Pitz Alpine Glacier Trail P30 findet am 1. August 2026 in Pitztal\, Tirol statt. Die Veranstaltung ist eine starke Wahl für Teilnehmende\, die ein gut organisiertes sportliches Erlebnis suchen. Die ausgeschriebene Distanz beträgt 27 km und hilft bei der Planung von Tempo\, Training und Anreise.
LOCATION:Pitztal\, Tirol
URL:https://sportplan.vercel.app/de/events/pitz-alpine-glacier-trail-p30-pitztal-2026-08-01-27k
END:VEVENT
END:VCALENDAR
