BEGIN:VCALENDAR
VERSION:2.0
PRODID:-//SportPlan//Event Calendar//EN
CALSCALE:GREGORIAN
BEGIN:VEVENT
UID:bc857bf9-88ee-48bd-bd34-93ad811eaa8f@sportplan.local
DTSTAMP:20260420T204326Z
DTSTART;VALUE=DATE:20260801
DTEND;VALUE=DATE:20260802
SUMMARY:Pitz Alpine Glacier Trail P105
DESCRIPTION:Pitz Alpine Glacier Trail P105 findet am 1. August 2026 in Pitztal\, Tirol statt. Die Veranstaltung ist eine starke Wahl für Teilnehmende\, die ein gut organisiertes sportliches Erlebnis suchen. Die ausgeschriebene Distanz beträgt 103 km und hilft bei der Planung von Tempo\, Training und Anreise.
LOCATION:Pitztal\, Tirol
URL:https://sportplan.vercel.app/de/events/pitz-alpine-glacier-trail-p105-pitztal-2026-08-01-103k
END:VEVENT
END:VCALENDAR
