BEGIN:VCALENDAR
VERSION:2.0
PRODID:-//SportPlan//Event Calendar//EN
CALSCALE:GREGORIAN
BEGIN:VEVENT
UID:2bc03707-618b-4293-a081-5797801eb554@sportplan.local
DTSTAMP:20260420T204423Z
DTSTART;VALUE=DATE:20260503
DTEND;VALUE=DATE:20260504
SUMMARY:Phoenix Energy Belfast City Marathon
DESCRIPTION:discovered via web_fetch on official event site for UK/IE priority coverage
LOCATION:Belfast\, Northern Ireland\, United Kingdom
URL:https://sportplan.vercel.app/de/events/phoenix-energy-belfast-city-marathon-2026-05-03
END:VEVENT
END:VCALENDAR
