BEGIN:VCALENDAR
VERSION:2.0
PRODID:-//SportPlan//Event Calendar//EN
CALSCALE:GREGORIAN
BEGIN:VEVENT
UID:9e4a4e61-cc7a-4103-aceb-fa69f191392c@sportplan.local
DTSTAMP:20260420T204525Z
DTSTART;VALUE=DATE:20260523
DTEND;VALUE=DATE:20260524
SUMMARY:PH Supersprint Duatlon Dugo Selo 2026
DESCRIPTION:PH Supersprint Duatlon Dugo Selo 2026 is an official Croatian Triathlon Federation age-group and open-category duathlon event in Dugo Selo\, Croatia on 23 May 2026. The federation's 2026 official competition calendar lists it as the national championship supersprint duathlon with categories from youth through APS and DS\, indicating amateur age-group participation.
LOCATION:Dugo Selo
URL:https://sportplan.vercel.app/de/events/ph-supersprint-duatlon-dugo-selo-2026-2026-05-23
END:VEVENT
END:VCALENDAR
