BEGIN:VCALENDAR
VERSION:2.0
PRODID:-//SportPlan//Event Calendar//EN
CALSCALE:GREGORIAN
BEGIN:VEVENT
UID:b1bb686e-e862-4901-9e9a-b8d47a01fc8b@sportplan.local
DTSTAMP:20260420T174132Z
DTSTART;VALUE=DATE:20260419
DTEND;VALUE=DATE:20260420
SUMMARY:PH Sprint Kros Duatlon Slavonski Brod 2026
DESCRIPTION:PH Sprint Kros Duatlon Slavonski Brod 2026 is an official amateur cross duathlon in Slavonski Brod\, Croatia on 19 April 2026. The Croatian Triathlon Federation announcement says the national championship combines running and mountain biking at Tvrđava Brod and explicitly welcomes recreational participants alongside championship racers\, making it a strong open-participation event in a thin-coverage country lane.
LOCATION:Tvrđava Brod\, Slavonski Brod
URL:https://sportplan.vercel.app/de/events/ph-sprint-kros-duatlon-slavonski-brod-2026-2026-04-19
END:VEVENT
END:VCALENDAR
