BEGIN:VCALENDAR
VERSION:2.0
PRODID:-//SportPlan//Event Calendar//EN
CALSCALE:GREGORIAN
BEGIN:VEVENT
UID:c191a4ff-0733-4d3b-82da-d8dedc4c96e1@sportplan.local
DTSTAMP:20260420T191654Z
DTSTART;VALUE=DATE:20261011
DTEND;VALUE=DATE:20261012
SUMMARY:Perth Running Festival 2026
DESCRIPTION:Incorporates Perth Marathon\; marathon + half + 10K + 4K\; finishes inside Optus Stadium\; AIMS accredited\; discovered via runningcalendar.com.au
LOCATION:Burswood\, WA\, Australia
URL:https://sportplan.vercel.app/de/events/perth-running-festival-2026-2026-10-11
END:VEVENT
END:VCALENDAR
