BEGIN:VCALENDAR
VERSION:2.0
PRODID:-//SportPlan//Event Calendar//EN
CALSCALE:GREGORIAN
BEGIN:VEVENT
UID:3470fe8a-3124-4575-8312-d9a0a520a144@sportplan.local
DTSTAMP:20260420T191802Z
DTSTART;VALUE=DATE:20260502
DTEND;VALUE=DATE:20260503
SUMMARY:Penyagolosa Trails Csp
DESCRIPTION:Penyagolosa Trails Csp se celebrará el 2/5/2026 en Castellón\, ES\, con un recorrido de 111 km. Es una gran oportunidad para disfrutar del ambiente del evento\, marcarte un objetivo deportivo y vivir una jornada activa en un entorno especial.
LOCATION:Castellón
URL:https://sportplan.vercel.app/de/events/penyagolosa-trails-csp-castell-n-2026-05-02
END:VEVENT
END:VCALENDAR
